BEGIN:VCALENDAR
VERSION:2.0
PRODID:-//MA POST Commission - ECPv6.15.18//NONSGML v1.0//EN
CALSCALE:GREGORIAN
METHOD:PUBLISH
X-WR-CALNAME:MA POST Commission
X-ORIGINAL-URL:https://mapostcommission.gov
X-WR-CALDESC:Events for MA POST Commission
REFRESH-INTERVAL;VALUE=DURATION:PT1H
X-Robots-Tag:noindex
X-PUBLISHED-TTL:PT1H
BEGIN:VTIMEZONE
TZID:America/New_York
BEGIN:DAYLIGHT
TZOFFSETFROM:-0500
TZOFFSETTO:-0400
TZNAME:EDT
DTSTART:20210314T070000
END:DAYLIGHT
BEGIN:STANDARD
TZOFFSETFROM:-0400
TZOFFSETTO:-0500
TZNAME:EST
DTSTART:20211107T060000
END:STANDARD
BEGIN:DAYLIGHT
TZOFFSETFROM:-0500
TZOFFSETTO:-0400
TZNAME:EDT
DTSTART:20220313T070000
END:DAYLIGHT
BEGIN:STANDARD
TZOFFSETFROM:-0400
TZOFFSETTO:-0500
TZNAME:EST
DTSTART:20221106T060000
END:STANDARD
BEGIN:DAYLIGHT
TZOFFSETFROM:-0500
TZOFFSETTO:-0400
TZNAME:EDT
DTSTART:20230312T070000
END:DAYLIGHT
BEGIN:STANDARD
TZOFFSETFROM:-0400
TZOFFSETTO:-0500
TZNAME:EST
DTSTART:20231105T060000
END:STANDARD
END:VTIMEZONE
BEGIN:VEVENT
DTSTART;TZID=America/New_York:20220608T141500
DTEND;TZID=America/New_York:20220608T163000
DTSTAMP:20260422T061540
CREATED:20240515T190906Z
LAST-MODIFIED:20250610T160423Z
UID:10000036-1654697700-1654705800@mapostcommission.gov
SUMMARY:Public Meeting
DESCRIPTION:Meeting summary: The meeting began with an Executive Director update and then went into Executive Session to discuss strategy with respect to litigation\, specifically Scott Hovsepian\, et al. v. Massachusetts Peace Officer Standards and Training Commission\, No. 2284CV00906\, Suffolk County Superior Court\, and New England Police Benevolent Association\, Inc.\, et al. v. Massachusetts Peace Officer Standards and Training Commission\, No. 2285CV00555\, Worcester County Superior Court. \nMeeting Materials (PDF)
URL:https://mapostcommission.gov/event/public-meeting-26/
CATEGORIES:Public Meeting
LOCATION:https://youtu.be/hk-U2S4Y3Vc?si=kGujgR62g8aiWfkp
END:VEVENT
END:VCALENDAR