BEGIN:VCALENDAR
VERSION:2.0
PRODID:-//MA POST Commission - ECPv6.15.18//NONSGML v1.0//EN
CALSCALE:GREGORIAN
METHOD:PUBLISH
X-ORIGINAL-URL:https://mapostcommission.gov
X-WR-CALDESC:Events for MA POST Commission
REFRESH-INTERVAL;VALUE=DURATION:PT1H
X-Robots-Tag:noindex
X-PUBLISHED-TTL:PT1H
BEGIN:VTIMEZONE
TZID:America/New_York
BEGIN:DAYLIGHT
TZOFFSETFROM:-0500
TZOFFSETTO:-0400
TZNAME:EDT
DTSTART:20200308T070000
END:DAYLIGHT
BEGIN:STANDARD
TZOFFSETFROM:-0400
TZOFFSETTO:-0500
TZNAME:EST
DTSTART:20201101T060000
END:STANDARD
BEGIN:DAYLIGHT
TZOFFSETFROM:-0500
TZOFFSETTO:-0400
TZNAME:EDT
DTSTART:20210314T070000
END:DAYLIGHT
BEGIN:STANDARD
TZOFFSETFROM:-0400
TZOFFSETTO:-0500
TZNAME:EST
DTSTART:20211107T060000
END:STANDARD
BEGIN:DAYLIGHT
TZOFFSETFROM:-0500
TZOFFSETTO:-0400
TZNAME:EDT
DTSTART:20220313T070000
END:DAYLIGHT
BEGIN:STANDARD
TZOFFSETFROM:-0400
TZOFFSETTO:-0500
TZNAME:EST
DTSTART:20221106T060000
END:STANDARD
END:VTIMEZONE
BEGIN:VEVENT
DTSTART;TZID=America/New_York:20210730T083000
DTEND;TZID=America/New_York:20210730T090000
DTSTAMP:20260424T134100
CREATED:20210726T124524Z
LAST-MODIFIED:20250610T142123Z
UID:10000086-1627633800-1627635600@mapostcommission.gov
SUMMARY:Public Meeting
DESCRIPTION:Executive Director and General Counsel Screening Committee Meeting Summary: The meeting was called to order\, after which the Executive Director and General Counsel Screening Committee entered executive session pursuant to G.L. c. 30A\, §21(8) to conduct due diligence on applicants for the Executive Director position. The public session did not reconvene following the executive session. \nExec. Director & General Counsel Screening Subcommittee Agenda
URL:https://mapostcommission.gov/event/public-meeting-52/
CATEGORIES:Public Meeting
END:VEVENT
END:VCALENDAR