BEGIN:VCALENDAR
VERSION:2.0
PRODID:-//MA POST Commission - ECPv6.15.18//NONSGML v1.0//EN
CALSCALE:GREGORIAN
METHOD:PUBLISH
X-WR-CALNAME:MA POST Commission
X-ORIGINAL-URL:https://mapostcommission.gov
X-WR-CALDESC:Events for MA POST Commission
REFRESH-INTERVAL;VALUE=DURATION:PT1H
X-Robots-Tag:noindex
X-PUBLISHED-TTL:PT1H
BEGIN:VTIMEZONE
TZID:America/New_York
BEGIN:DAYLIGHT
TZOFFSETFROM:-0500
TZOFFSETTO:-0400
TZNAME:EDT
DTSTART:20200308T070000
END:DAYLIGHT
BEGIN:STANDARD
TZOFFSETFROM:-0400
TZOFFSETTO:-0500
TZNAME:EST
DTSTART:20201101T060000
END:STANDARD
BEGIN:DAYLIGHT
TZOFFSETFROM:-0500
TZOFFSETTO:-0400
TZNAME:EDT
DTSTART:20210314T070000
END:DAYLIGHT
BEGIN:STANDARD
TZOFFSETFROM:-0400
TZOFFSETTO:-0500
TZNAME:EST
DTSTART:20211107T060000
END:STANDARD
BEGIN:DAYLIGHT
TZOFFSETFROM:-0500
TZOFFSETTO:-0400
TZNAME:EDT
DTSTART:20220313T070000
END:DAYLIGHT
BEGIN:STANDARD
TZOFFSETFROM:-0400
TZOFFSETTO:-0500
TZNAME:EST
DTSTART:20221106T060000
END:STANDARD
END:VTIMEZONE
BEGIN:VEVENT
DTSTART;TZID=America/New_York:20210707T083000
DTEND;TZID=America/New_York:20210707T103000
DTSTAMP:20260424T133528
CREATED:20240516T151059Z
LAST-MODIFIED:20250610T140520Z
UID:10000052-1625646600-1625653800@mapostcommission.gov
SUMMARY:Public Meeting
DESCRIPTION:Meeting Summary: The meeting began with approval of minutes from June 16\, 2021\, June 23\, 2021 and June 30\, 2021 meetings. The Commission also held a discussion on proposed rules and regulations under Section 15(d). \nMeeting Agenda (PDF) \nMeeting Minutes (PDF)
URL:https://mapostcommission.gov/event/public-meeting-40/
CATEGORIES:Public Meeting
END:VEVENT
BEGIN:VEVENT
DTSTART;TZID=America/New_York:20210707T131500
DTEND;TZID=America/New_York:20210707T170000
DTSTAMP:20260424T133528
CREATED:20210702T141740Z
LAST-MODIFIED:20250604T150536Z
UID:10000088-1625663700-1625677200@mapostcommission.gov
SUMMARY:Public Meeting Screening Committee
DESCRIPTION:Executive Director and General Counsel Screening Committee meeting\nScreening Committee meeting summary: The meeting began with a call to order\, followed by approval of the Executive Director Screening Committee minutes from June 16\, 2021. The Commission then entered executive session under M.G.L. c. 30A\, §21(8) to review resumes for General Counsel applicants and to interview candidates for the Executive Director position. The public session did not reconvene after the executive session. \nPeace Officer Standards and Training Commission Executive Director and General Counsel Screening Committee Agenda
URL:https://mapostcommission.gov/event/public-meeting-54/
CATEGORIES:Public Meeting
END:VEVENT
BEGIN:VEVENT
DTSTART;TZID=America/New_York:20210712T083000
DTEND;TZID=America/New_York:20210712T103000
DTSTAMP:20260424T133528
CREATED:20240516T151550Z
LAST-MODIFIED:20250610T140653Z
UID:10000053-1626078600-1626085800@mapostcommission.gov
SUMMARY:Public Meeting
DESCRIPTION:Meeting Summary: The meeting included a discussion of proposed rules and regulations under Section 15(d)\, which require the Commission and the Municipal Police Training Committee to jointly establish use-of-force policies for law enforcement officers. These regulations allow for the use of necessary\, proportionate\, and non-deadly force in situations not explicitly covered by law\, but only when de-escalation tactics have been attempted and failed or are deemed not feasible based on the totality of the circumstances. \nMeeting Agenda (PDF) \nMeeting Minutes (PDF)
URL:https://mapostcommission.gov/event/public-meeting-41/
CATEGORIES:Public Meeting
END:VEVENT
BEGIN:VEVENT
DTSTART;TZID=America/New_York:20210714T083000
DTEND;TZID=America/New_York:20210714T103000
DTSTAMP:20260424T133528
CREATED:20240516T152133Z
LAST-MODIFIED:20250610T141435Z
UID:10000054-1626251400-1626258600@mapostcommission.gov
SUMMARY:Public Meeting
DESCRIPTION:Meeting Summary: Discussion of proposed rules and regulations under Section 15(d): “The\ncommission and the municipal police training committee established pursuant to section 116 of chapter 6 shall jointly promulgate rules and regulations for the use of force by law enforcement officers consistent with this section and section 14; provided\, however\, that such regulations may authorize the use of necessary\, proportionate and non-deadly force for purposes not explicitly specified in this chapter where de-escalation tactics have been attempted and failed or are not feasible based on the totality of the circumstances.” \nMeeting Agenda (PDF) \nMeeting Minutes (PDF)
URL:https://mapostcommission.gov/event/public-meeting-42/
CATEGORIES:Public Meeting
END:VEVENT
BEGIN:VEVENT
DTSTART;TZID=America/New_York:20210722T100000
DTEND;TZID=America/New_York:20210722T113000
DTSTAMP:20260424T133528
CREATED:20210720T133309Z
LAST-MODIFIED:20250610T141719Z
UID:10000087-1626948000-1626953400@mapostcommission.gov
SUMMARY:Public Meeting
DESCRIPTION:This meeting was cancelled. \n 
URL:https://mapostcommission.gov/event/public-meeting-53/
CATEGORIES:Public Meeting
END:VEVENT
BEGIN:VEVENT
DTSTART;TZID=America/New_York:20210726T083000
DTEND;TZID=America/New_York:20210726T103000
DTSTAMP:20260424T133528
CREATED:20240516T153054Z
LAST-MODIFIED:20250610T142005Z
UID:10000055-1627288200-1627295400@mapostcommission.gov
SUMMARY:Public Meeting
DESCRIPTION:Meeting Summary: The meeting focused on a discussion of the proposed rules and regulations under Section 15(d)\, which direct the Commission and the Municipal Police Training Committee to jointly establish use-of-force policies for law enforcement officers. These regulations permit the use of necessary\, proportionate\, and non-deadly force in situations not specifically addressed by law\, but only after de-escalation tactics have been attempted and failed or are considered not feasible based on the totality of the circumstances. \nMeeting Agenda (PDF) \nMeeting Minutes (PDF)
URL:https://mapostcommission.gov/event/public-meeting-43/
CATEGORIES:Public Meeting
END:VEVENT
BEGIN:VEVENT
DTSTART;TZID=America/New_York:20210730T083000
DTEND;TZID=America/New_York:20210730T090000
DTSTAMP:20260424T133528
CREATED:20210726T124524Z
LAST-MODIFIED:20250610T142123Z
UID:10000086-1627633800-1627635600@mapostcommission.gov
SUMMARY:Public Meeting
DESCRIPTION:Executive Director and General Counsel Screening Committee Meeting Summary: The meeting was called to order\, after which the Executive Director and General Counsel Screening Committee entered executive session pursuant to G.L. c. 30A\, §21(8) to conduct due diligence on applicants for the Executive Director position. The public session did not reconvene following the executive session. \nExec. Director & General Counsel Screening Subcommittee Agenda
URL:https://mapostcommission.gov/event/public-meeting-52/
CATEGORIES:Public Meeting
END:VEVENT
END:VCALENDAR