BEGIN:VCALENDAR
VERSION:2.0
PRODID:-//MA POST Commission - ECPv6.15.18//NONSGML v1.0//EN
CALSCALE:GREGORIAN
METHOD:PUBLISH
X-ORIGINAL-URL:https://mapostcommission.gov
X-WR-CALDESC:Events for MA POST Commission
REFRESH-INTERVAL;VALUE=DURATION:PT1H
X-Robots-Tag:noindex
X-PUBLISHED-TTL:PT1H
BEGIN:VTIMEZONE
TZID:America/New_York
BEGIN:DAYLIGHT
TZOFFSETFROM:-0500
TZOFFSETTO:-0400
TZNAME:EDT
DTSTART:20230312T070000
END:DAYLIGHT
BEGIN:STANDARD
TZOFFSETFROM:-0400
TZOFFSETTO:-0500
TZNAME:EST
DTSTART:20231105T060000
END:STANDARD
BEGIN:DAYLIGHT
TZOFFSETFROM:-0500
TZOFFSETTO:-0400
TZNAME:EDT
DTSTART:20240310T070000
END:DAYLIGHT
BEGIN:STANDARD
TZOFFSETFROM:-0400
TZOFFSETTO:-0500
TZNAME:EST
DTSTART:20241103T060000
END:STANDARD
BEGIN:DAYLIGHT
TZOFFSETFROM:-0500
TZOFFSETTO:-0400
TZNAME:EDT
DTSTART:20250309T070000
END:DAYLIGHT
BEGIN:STANDARD
TZOFFSETFROM:-0400
TZOFFSETTO:-0500
TZNAME:EST
DTSTART:20251102T060000
END:STANDARD
END:VTIMEZONE
BEGIN:VEVENT
DTSTART;TZID=America/New_York:20240820T093000
DTEND;TZID=America/New_York:20240820T113000
DTSTAMP:20260419T122220
CREATED:20240726T174203Z
LAST-MODIFIED:20250728T190637Z
UID:10000101-1724146200-1724153400@mapostcommission.gov
SUMMARY:Pre-Hearing Conference in the Matter of Robert Devine
DESCRIPTION:Case No. 2024-004-S In the Matter of Robert Devine \nStatus Conference (via zoom) \nHearing Officer:                       Hon. Kenneth J. Fishman (Ret.) \nRespondent Attorney:             Robert Stowe\, Esq. \nProsecuting Attorney:             Shaun Martinez\, Esq. \nWatch Recording
URL:https://mapostcommission.gov/event/adjudicatory-proceeding-in-the-matter-of-robert-devine/
CATEGORIES:Hearing
LOCATION:https://youtu.be/7f41fyrLKOw
END:VEVENT
END:VCALENDAR